BEGIN:VCALENDAR
VERSION:2.0
METHOD:PUBLISH
PRODID:-//Accessible Web Design//My Calendar//http://www.joedolson.com//v3.3.10//EN';
BEGIN:VEVENT
UID:794-51
LOCATION:B'nai Torah Congregation 6261 SW 18th St  Boca Raton FL 33433
SUMMARY:היסטוריה
DTSTAMP:20200213T190000
ORGANIZER;CN=Amit Tirosh:MAILTO:Amittirosh18@gmail.com
DTSTART:20200213T190000
DTEND:20200213T210000
CATEGORIES: Boca
URL;VALUE=URI:
DESCRIPTION;ENCODING=QUOTED-PRINTABLE:ד"ר אריק כרמון 
END:VEVENT
END:VCALENDAR