BEGIN:VCALENDAR
VERSION:2.0
METHOD:PUBLISH
PRODID:-//Accessible Web Design//My Calendar//http://www.joedolson.com//v3.3.10//EN';
BEGIN:VEVENT
UID:1336-538
LOCATION:
SUMMARY:מארחים את פרופ' אסתר כרמל חכים - נשים מתוות דרך בציונות וביישוב
DTSTAMP:20210520T120000
ORGANIZER;CN=Ladies Parliament Editor:MAILTO:ladieseditor@israeliparliament.org
DTSTART:20210520T120000
DTEND:20210520T140000
CATEGORIES:Forum Nashim
URL;VALUE=URI:
DESCRIPTION;ENCODING=QUOTED-PRINTABLE:כניסה למפגש הוירטואלי לחץ כאן&nbsp;Meeting ID: 829 9343 4819Passcode: 973394 
END:VEVENT
END:VCALENDAR