BEGIN:VCALENDAR
VERSION:2.0
METHOD:PUBLISH
PRODID:-//Accessible Web Design//My Calendar//http://www.joedolson.com//v3.3.10//EN';
BEGIN:VEVENT
UID:1360-561
LOCATION:
SUMMARY:פורום נשים מארח את ארז חסון - מרגלים בשרות המדינה -
DTSTAMP:20210722T120000
ORGANIZER;CN=Ladies Parliament Editor:MAILTO:ladieseditor@israeliparliament.org
DTSTART:20210722T120000
DTEND:20210722T140000
CATEGORIES:Forum Nashim
URL;VALUE=URI:
DESCRIPTION;ENCODING=QUOTED-PRINTABLE:כניסה למפגש הוירטואלי לחץ כאןשימו לב מטעמי צנזורה חובה להקיש פאסקוד Meeting ID: 815 9195 7349Passcode: 5748467 
END:VEVENT
END:VCALENDAR