BEGIN:VCALENDAR
VERSION:2.0
METHOD:PUBLISH
PRODID:-//Accessible Web Design//My Calendar//http://www.joedolson.com//v3.3.10//EN';
BEGIN:VEVENT
UID:1452-639
LOCATION:
SUMMARY:פורום הספר-נמר בירושלים
DTSTAMP:20220214T120000
ORGANIZER;CN=Ladies Parliament Editor:MAILTO:ladieseditor@israeliparliament.org
DTSTART:20220214T120000
DTEND:20220214T140000
CATEGORIES:Forum Nashim
URL;VALUE=URI:
DESCRIPTION;ENCODING=QUOTED-PRINTABLE:פורום הספר מארח את הסופר אורן ולדמן על ספרו - נמר בירושליםהקלטה&nbsp;&nbsp; 
END:VEVENT
END:VCALENDAR