BEGIN:VCALENDAR
VERSION:2.0
METHOD:PUBLISH
PRODID:-//Accessible Web Design//My Calendar//http://www.joedolson.com//v3.3.10//EN';
BEGIN:VEVENT
UID:1865-832
LOCATION:Zoom
SUMMARY:איך לשפר את הזיכרון ולהפסיק לשכוח את מה שחשוב
DTSTAMP:20230413T110000
ORGANIZER;CN=Ladies Parliament Editor:MAILTO:ladieseditor@israeliparliament.org
DTSTART:20230413T110000
DTEND:20230413T130000
CATEGORIES:Forum Nashim
URL;VALUE=URI:
DESCRIPTION;ENCODING=QUOTED-PRINTABLE:פורום נשים מארח - מפגש וירטואליזכרון בלתי נשכחאיך לשפר את הזיכרון ולהפסיק לשכוח את מה שחשובקישור לארוע &nbsp;שם ההרצאה: זיכרון בלתי נשכחכותרת משנה: איך לשפר את הזיכרון ולהפסיק לשכוח את מה שחשובההרצאה מתמקדת בנושאים הבאיםאיך הזיכרון שלנו עובד ומה במוח האנושי מאפשר לנו לשפר אותואסטרטגיות מובילות לשיפור יכולת הקליטה, השמירה והשליפה מהזיכרוןשימור וחיזוק הזיכרון לאורך זמןמרצהאיתי עניאל, חוקר מוח ומרצה מומחה לאימון המוח ושיפור הזיכרון, מייסד חדר כושר למוח והמרכז לשיפור הזיכרון, מעביר ברחבי העולם, הרצאות, סדנאות וקורסים לשיפור הזיכרון כבסיס לפיתוח אישי ותפקוד מיטבי בחיי היומיוםMeeting ID: 814 0719 3872Passcode: 803264 
END:VEVENT
END:VCALENDAR