BEGIN:VCALENDAR
VERSION:2.0
METHOD:PUBLISH
PRODID:-//Accessible Web Design//My Calendar//http://www.joedolson.com//v3.3.10//EN';
BEGIN:VEVENT
UID:1450-637
LOCATION:
SUMMARY:אביגדור ספיר-פרו
DTSTAMP:20220203T120000
ORGANIZER;CN=Ladies Parliament Editor:MAILTO:ladieseditor@israeliparliament.org
DTSTART:20220203T120000
DTEND:20220203T140000
CATEGORIES:Forum Nashim
URL;VALUE=URI:
DESCRIPTION;ENCODING=QUOTED-PRINTABLE:לינק לטיול לארץ האינקה- העמק הקדוש והמאצ'ו פיצ'יעם אביגדור ספיר&nbsp;Meeting ID: 895 5766 9628Passcode: 304478 
END:VEVENT
END:VCALENDAR