BEGIN:VCALENDAR
VERSION:2.0
METHOD:PUBLISH
PRODID:-//Accessible Web Design//My Calendar//http://www.joedolson.com//v3.3.10//EN';
BEGIN:VEVENT
UID:1610-663
LOCATION:
SUMMARY:ערביי הנגב - האתגר ושורשיו
DTSTAMP:20220324T120000
ORGANIZER;CN=Ladies Parliament Editor:MAILTO:ladieseditor@israeliparliament.org
DTSTART:20220324T120000
DTEND:20220324T140000
CATEGORIES:Forum Nashim
URL;VALUE=URI:
DESCRIPTION;ENCODING=QUOTED-PRINTABLE:פורום נשים מארח את דר' שמעון עוז - ערביי הנגב האתגר ושורשיולינק לארוע -Meeting ID: 889 9142 9927Passcode: 851109 
END:VEVENT
END:VCALENDAR