BEGIN:VCALENDAR
VERSION:2.0
METHOD:PUBLISH
PRODID:-//Accessible Web Design//My Calendar//http://www.joedolson.com//v3.3.10//EN';
BEGIN:VEVENT
UID:1991-954
LOCATION:
SUMMARY:פרופ. משה כהן אליה
DTSTAMP:20240816T153000
ORGANIZER;CN=#IsraeliAdmin:MAILTO:israeliAdmin@israeliparliament.org
DTSTART:20240816T153000
DTEND:20240816T183000
CATEGORIES: Riviera
URL;VALUE=URI:
DESCRIPTION;ENCODING=QUOTED-PRINTABLE:פרופ. משה כהן אליה 
END:VEVENT
END:VCALENDAR