BEGIN:VCALENDAR
VERSION:2.0
METHOD:PUBLISH
PRODID:-//Accessible Web Design//My Calendar//http://www.joedolson.com//v3.3.10//EN';
BEGIN:VEVENT
UID:2051-1013
LOCATION:
SUMMARY:פסח
DTSTAMP:20250413T000000
ORGANIZER;CN=#IsraeliAdmin:MAILTO:israeliAdmin@israeliparliament.org
DTSTART:20250413T000000
DTEND:20250414T000000
CATEGORIES:Holiday
URL;VALUE=URI:
DESCRIPTION;ENCODING=QUOTED-PRINTABLE: 
X-FUNAMBOL-ALLDAY: 1
X-MICROSOFT-CDO-ALLDAYEVENT: TRUE

END:VEVENT
END:VCALENDAR