BEGIN:VCALENDAR
VERSION:2.0
METHOD:PUBLISH
PRODID:-//Accessible Web Design//My Calendar//http://www.joedolson.com//v3.3.10//EN';
BEGIN:VEVENT
UID:2185-1136
LOCATION:Burt Aaronson South County Regional Park 11200 Park Access Rd  Boca Raton FL 33498
SUMMARY:Celebrate Israel / Jewish Federation of Palm Beach County
DTSTAMP:20260426T100000
ORGANIZER;CN=Amit Tirosh:MAILTO:Amittirosh18@gmail.com
DTSTART:20260426T100000
DTEND:20260426T140000
CATEGORIES: Boca
URL;VALUE=URI:
DESCRIPTION;ENCODING=QUOTED-PRINTABLE:יום ראשון ה 26 באפריל בין השעות 10 בבוקר ל 2 בצהריים נפגשים ב sunset cove - south county regional park שבמערב בוקה לחגוג את יום העצמאות ה 78 למדינת ישראל.זהו שיתוף פעולה בין הפדרציה היהודית לבין ארגונים נוספים בבוקה, ביניהם פרלמנט בוקה.להרשמה באתר https://jewishboca.org/events/celebrate-israel/&nbsp; 
END:VEVENT
END:VCALENDAR