BEGIN:VCALENDAR
VERSION:2.0
METHOD:PUBLISH
PRODID:-//Accessible Web Design//My Calendar//http://www.joedolson.com//v3.3.10//EN';
BEGIN:VEVENT
UID:1077-315
LOCATION:
SUMMARY:אבירם הלוי 2:00
DTSTAMP:20200814T140000
ORGANIZER;CN=#RivieraAdmin:MAILTO:rivieraAdmin@israeliparliament.org
DTSTART:20200814T140000
DTEND:20200814T170000
CATEGORIES: Riviera
URL;VALUE=URI:
DESCRIPTION;ENCODING=QUOTED-PRINTABLE:לצפיה בהקלטת הפגש לחץ כאןסיירת מטכ"ל – המבצעים הגדולים של היחידה&nbsp; 
END:VEVENT
END:VCALENDAR