BEGIN:VCALENDAR
VERSION:2.0
METHOD:PUBLISH
PRODID:-//Accessible Web Design//My Calendar//http://www.joedolson.com//v3.3.10//EN';
BEGIN:VEVENT
UID:1095-332
LOCATION:
SUMMARY:אל"מ (מיל) דוד חכם
DTSTAMP:20200911T140000
ORGANIZER;CN=#RivieraAdmin:MAILTO:rivieraAdmin@israeliparliament.org
DTSTART:20200911T140000
DTEND:20200911T170000
CATEGORIES: Riviera
URL;VALUE=URI:
DESCRIPTION;ENCODING=QUOTED-PRINTABLE:&nbsp;לצפיה בהקלטת המפגש לחץ כאןהזירה הפלשתינית, בין עזה לרמאללה 
END:VEVENT
END:VCALENDAR