BEGIN:VCALENDAR
VERSION:2.0
METHOD:PUBLISH
PRODID:-//Accessible Web Design//My Calendar//http://www.joedolson.com//v3.3.10//EN';
BEGIN:VEVENT
UID:1096-333
LOCATION:
SUMMARY:2:00 ד"ר יגאל קיפניס
DTSTAMP:20200925T140000
ORGANIZER;CN=#RivieraAdmin:MAILTO:rivieraAdmin@israeliparliament.org
DTSTART:20200925T140000
DTEND:20200925T170000
CATEGORIES: Riviera
URL;VALUE=URI:
DESCRIPTION;ENCODING=QUOTED-PRINTABLE:לצפיה בהקלטת המפגש לחץ כאן״מששת הימים ועד יום כיפור״&nbsp; 
END:VEVENT
END:VCALENDAR