BEGIN:VCALENDAR
VERSION:2.0
METHOD:PUBLISH
PRODID:-//Accessible Web Design//My Calendar//http://www.joedolson.com//v3.3.10//EN';
BEGIN:VEVENT
UID:1109-344
LOCATION:
SUMMARY:משירי לאה גולדברג ונתן יונתן
DTSTAMP:20200918T140000
ORGANIZER;CN=#RivieraAdmin:MAILTO:rivieraAdmin@israeliparliament.org
DTSTART:20200918T140000
DTEND:20200918T170000
CATEGORIES: Riviera
URL;VALUE=URI:
DESCRIPTION;ENCODING=QUOTED-PRINTABLE:לצפיה בהקלטת המפגש לחץ כאןמהשירים המרגשים ביותר של לאה גולדברג ונתן יונתןבהנחיית צביקה יניב 
END:VEVENT
END:VCALENDAR