BEGIN:VCALENDAR
VERSION:2.0
METHOD:PUBLISH
PRODID:-//Accessible Web Design//My Calendar//http://www.joedolson.com//v3.3.10//EN';
BEGIN:VEVENT
UID:1115-350
LOCATION:
SUMMARY:ד"ר ישראל וייסמל מנור   ופרופ גיא גולן
DTSTAMP:20201009T140000
ORGANIZER;CN=#RivieraAdmin:MAILTO:rivieraAdmin@israeliparliament.org
DTSTART:20201009T140000
DTEND:20201009T170000
CATEGORIES: Riviera
URL;VALUE=URI:
DESCRIPTION;ENCODING=QUOTED-PRINTABLE:&nbsp;לצפיה בהקלטת המפגש לחץ כאןבחירות 2020 בארה"ב. מה משפיע ומה מכריע 
END:VEVENT
END:VCALENDAR