BEGIN:VCALENDAR
VERSION:2.0
METHOD:PUBLISH
PRODID:-//Accessible Web Design//My Calendar//http://www.joedolson.com//v3.3.10//EN';
BEGIN:VEVENT
UID:1118-351
LOCATION:
SUMMARY:ליא קניג-שטולפר מלכת התיאטרון הישראלי
DTSTAMP:20201120T140000
ORGANIZER;CN=#RivieraAdmin:MAILTO:rivieraAdmin@israeliparliament.org
DTSTART:20201120T140000
DTEND:20201120T170000
CATEGORIES: Riviera
URL;VALUE=URI:
DESCRIPTION;ENCODING=QUOTED-PRINTABLE:לצפיה בהקלטת המפגש לחץ כאןמלכת התיאטרון הישראלי 
END:VEVENT
END:VCALENDAR