BEGIN:VCALENDAR
VERSION:2.0
METHOD:PUBLISH
PRODID:-//Accessible Web Design//My Calendar//http://www.joedolson.com//v3.3.10//EN';
BEGIN:VEVENT
UID:1136-369
LOCATION:
SUMMARY:3:00     תא"ל מיל.  ד"ר מאיר אלרן
DTSTAMP:20201030T150000
ORGANIZER;CN=#RivieraAdmin:MAILTO:rivieraAdmin@israeliparliament.org
DTSTART:20201030T150000
DTEND:20201030T173000
CATEGORIES: Riviera
URL;VALUE=URI:
DESCRIPTION;ENCODING=QUOTED-PRINTABLE:לצפיה בהקלטת המפגש לחץ כאןחוסן חברתי בישראל – בין קורונה לקטיושה 
END:VEVENT
END:VCALENDAR