BEGIN:VCALENDAR
VERSION:2.0
METHOD:PUBLISH
PRODID:-//Accessible Web Design//My Calendar//http://www.joedolson.com//v3.3.10//EN';
BEGIN:VEVENT
UID:1073-311
LOCATION:
SUMMARY:המלחינה נורית הירש 2:00
DTSTAMP:20200828T140000
ORGANIZER;CN=#RivieraAdmin:MAILTO:rivieraAdmin@israeliparliament.org
DTSTART:20200828T140000
DTEND:20200828T170000
CATEGORIES: Riviera
URL;VALUE=URI:
DESCRIPTION;ENCODING=QUOTED-PRINTABLE:&nbsp;לצפיה בהקלטת המפגש לחץ כאןמלחינה ישראלית, מנצחת, מעבדת, פסנתרנית 
END:VEVENT
END:VCALENDAR