BEGIN:VCALENDAR
VERSION:2.0
METHOD:PUBLISH
PRODID:-//Accessible Web Design//My Calendar//http://www.joedolson.com//v3.3.10//EN';
BEGIN:VEVENT
UID:1082-320
LOCATION:
SUMMARY:פרופסור עוזי ארד 2:00
DTSTAMP:20200821T140000
ORGANIZER;CN=#RivieraAdmin:MAILTO:rivieraAdmin@israeliparliament.org
DTSTART:20200821T140000
DTEND:20200821T170000
CATEGORIES: Riviera
URL;VALUE=URI:
DESCRIPTION;ENCODING=QUOTED-PRINTABLE:&nbsp;לצפיה בהקלטת המפגש לחץ כאןכיוונים לאסטרטגית הבטחון הלאומי  
END:VEVENT
END:VCALENDAR