BEGIN:VCALENDAR
VERSION:2.0
METHOD:PUBLISH
PRODID:-//Accessible Web Design//My Calendar//http://www.joedolson.com//v3.3.10//EN';
BEGIN:VEVENT
UID:1117-352
LOCATION:
SUMMARY:ח"כ עוזי דיין  2:00
DTSTAMP:20200929T140000
ORGANIZER;CN=#RivieraAdmin:MAILTO:rivieraAdmin@israeliparliament.org
DTSTART:20200929T140000
DTEND:20200929T170000
CATEGORIES: Riviera
URL;VALUE=URI:
DESCRIPTION;ENCODING=QUOTED-PRINTABLE:לצפיה בהקלטת המפגש לחץ כאןישראל 2021&nbsp; 
END:VEVENT
END:VCALENDAR