BEGIN:VCALENDAR
VERSION:2.0
METHOD:PUBLISH
PRODID:-//Accessible Web Design//My Calendar//http://www.joedolson.com//v3.3.10//EN';
BEGIN:VEVENT
UID:1119-353
LOCATION:
SUMMARY:ד"ר רפי נצר   2:00
DTSTAMP:20201002T140000
ORGANIZER;CN=#RivieraAdmin:MAILTO:rivieraAdmin@israeliparliament.org
DTSTART:20201002T140000
DTEND:20201002T170000
CATEGORIES: Riviera
URL;VALUE=URI:
DESCRIPTION;ENCODING=QUOTED-PRINTABLE:לצפיה בהקלטת המפגש לחץ כאןהאבולוציה המדהימה של המין האנושי – איך זה קרה 
END:VEVENT
END:VCALENDAR