BEGIN:VCALENDAR
VERSION:2.0
METHOD:PUBLISH
PRODID:-//Accessible Web Design//My Calendar//http://www.joedolson.com//v3.3.10//EN';
BEGIN:VEVENT
UID:1153-374
LOCATION:
SUMMARY:Congress Women Donna Shalala ו- Boris Epstein - Trump Advisor  2:00
DTSTAMP:20201027T140000
ORGANIZER;CN=#RivieraAdmin:MAILTO:rivieraAdmin@israeliparliament.org
DTSTART:20201027T140000
DTEND:20201027T170000
CATEGORIES: Riviera
URL;VALUE=URI:
DESCRIPTION;ENCODING=QUOTED-PRINTABLE:&nbsp;לצפיה בהקלטת המפגש לחץ כאן 
END:VEVENT
END:VCALENDAR