BEGIN:VCALENDAR
VERSION:2.0
METHOD:PUBLISH
PRODID:-//Accessible Web Design//My Calendar//http://www.joedolson.com//v3.3.10//EN';
BEGIN:VEVENT
UID:1159-380
LOCATION:
SUMMARY:ד"ר דן רונן
DTSTAMP:20201127T140000
ORGANIZER;CN=#RivieraAdmin:MAILTO:rivieraAdmin@israeliparliament.org
DTSTART:20201127T140000
DTEND:20201127T170000
CATEGORIES: Riviera
URL;VALUE=URI:
DESCRIPTION;ENCODING=QUOTED-PRINTABLE:לצפיה בהקלטת המפגש לחץ כאן"הכיתה שלנו" הצגה שדוקרת את הלב – בהנחיית צביקה יניבד"ר דן רונן   במאי, מחזאי, מרצה, מפיק ומנהל אמנותי &nbsp;&nbsp;&nbsp; 
END:VEVENT
END:VCALENDAR