BEGIN:VCALENDAR
VERSION:2.0
METHOD:PUBLISH
PRODID:-//Accessible Web Design//My Calendar//http://www.joedolson.com//v3.3.10//EN';
BEGIN:VEVENT
UID:1160-381
LOCATION:
SUMMARY:הזמרת אילנית   2:00
DTSTAMP:20201211T140000
ORGANIZER;CN=#RivieraAdmin:MAILTO:rivieraAdmin@israeliparliament.org
DTSTART:20201211T140000
DTEND:20201211T170000
CATEGORIES: Riviera
URL;VALUE=URI:
DESCRIPTION;ENCODING=QUOTED-PRINTABLE:&nbsp;לצפיה בהקלטת המפגש לחץ כאןהזמרת שזכתה בתואר "זמרת השנה" 7 פעמים 
END:VEVENT
END:VCALENDAR