BEGIN:VCALENDAR
VERSION:2.0
METHOD:PUBLISH
PRODID:-//Accessible Web Design//My Calendar//http://www.joedolson.com//v3.3.10//EN';
BEGIN:VEVENT
UID:797-139
LOCATION:{ical_location}
SUMMARY:רם אורן דר. גיל טיבעון
DTSTAMP:20191227T153000
ORGANIZER;CN=#RivieraAdmin:MAILTO:rivieraAdmin@israeliparliament.org
DTSTART:20191227T153000
DTEND:20191227T180000
CATEGORIES: Riviera
URL;VALUE=URI:
DESCRIPTION;ENCODING=QUOTED-PRINTABLE: מדע ומיסטיקה יהודית 
END:VEVENT
END:VCALENDAR